BEGIN:VCALENDAR
VERSION:2.0
PRODID:-//KDB Brandenburg e.V. - ECPv6.15.20//NONSGML v1.0//EN
CALSCALE:GREGORIAN
METHOD:PUBLISH
X-ORIGINAL-URL:https://kdb-brandenburg.de
X-WR-CALDESC:Veranstaltungen für KDB Brandenburg e.V.
REFRESH-INTERVAL;VALUE=DURATION:PT1H
X-Robots-Tag:noindex
X-PUBLISHED-TTL:PT1H
BEGIN:VTIMEZONE
TZID:Europe/Berlin
BEGIN:DAYLIGHT
TZOFFSETFROM:+0100
TZOFFSETTO:+0200
TZNAME:CEST
DTSTART:20240331T010000
END:DAYLIGHT
BEGIN:STANDARD
TZOFFSETFROM:+0200
TZOFFSETTO:+0100
TZNAME:CET
DTSTART:20241027T010000
END:STANDARD
BEGIN:DAYLIGHT
TZOFFSETFROM:+0100
TZOFFSETTO:+0200
TZNAME:CEST
DTSTART:20250330T010000
END:DAYLIGHT
BEGIN:STANDARD
TZOFFSETFROM:+0200
TZOFFSETTO:+0100
TZNAME:CET
DTSTART:20251026T010000
END:STANDARD
BEGIN:DAYLIGHT
TZOFFSETFROM:+0100
TZOFFSETTO:+0200
TZNAME:CEST
DTSTART:20260329T010000
END:DAYLIGHT
BEGIN:STANDARD
TZOFFSETFROM:+0200
TZOFFSETTO:+0100
TZNAME:CET
DTSTART:20261025T010000
END:STANDARD
BEGIN:DAYLIGHT
TZOFFSETFROM:+0100
TZOFFSETTO:+0200
TZNAME:CEST
DTSTART:20270328T010000
END:DAYLIGHT
BEGIN:STANDARD
TZOFFSETFROM:+0200
TZOFFSETTO:+0100
TZNAME:CET
DTSTART:20271031T010000
END:STANDARD
END:VTIMEZONE
BEGIN:VEVENT
DTSTART;TZID=Europe/Berlin:20260328T100000
DTEND;TZID=Europe/Berlin:20260328T235900
DTSTAMP:20260421T141225
CREATED:20260107T180001Z
LAST-MODIFIED:20260201T135600Z
UID:1441-1774692000-1774742340@kdb-brandenburg.de
SUMMARY:1. Rangliste in Beelitz
DESCRIPTION:
URL:https://kdb-brandenburg.de/termin/1-rangliste-in-beelitz/
CATEGORIES:Wettkampf
END:VEVENT
BEGIN:VEVENT
DTSTART;TZID=Europe/Berlin:20260326T190000
DTEND;TZID=Europe/Berlin:20260326T203000
DTSTAMP:20260421T141225
CREATED:20251214T161920Z
LAST-MODIFIED:20260119T193334Z
UID:1342-1774551600-1774557000@kdb-brandenburg.de
SUMMARY:Dan-Vorbereitungstraining mit Stilrichtungsreferent und A-Prüfer Shotokan Stanley Schulze
DESCRIPTION:Donnerstagstraining in der Landkostarena in Bestensee\n19 – 20:30 Uhr\n\n\nGoethestraße 17 / 15741 Bestensee\nrechte Hallenhälfte\n\n\ngezielte Vorbereitung auf die nächste Shotokan-Danprüfung zum 1. – 5. Dan\nTeilnahmevoraussetzung: mindestens 3. Kyu\nkostenfrei
URL:https://kdb-brandenburg.de/termin/dan-vorbereitung-shotokan-in-bestensee-3/
CATEGORIES:Lehrgang
END:VEVENT
BEGIN:VEVENT
DTSTART;TZID=Europe/Berlin:20260321T100000
DTEND;TZID=Europe/Berlin:20260321T163000
DTSTAMP:20260421T141225
CREATED:20260203T153743Z
LAST-MODIFIED:20260203T153743Z
UID:1838-1774087200-1774110600@kdb-brandenburg.de
SUMMARY:Bunkai-Lehrgang in Brück/Mark
DESCRIPTION:
URL:https://kdb-brandenburg.de/termin/bunkai-lehrgang-in-brueck-mark/
CATEGORIES:Lehrgang
END:VEVENT
BEGIN:VEVENT
DTSTART;VALUE=DATE:20260320
DTEND;VALUE=DATE:20260323
DTSTAMP:20260421T141225
CREATED:20251214T161652Z
LAST-MODIFIED:20251214T161652Z
UID:1338-1773964800-1774223999@kdb-brandenburg.de
SUMMARY:Ausbildung Trainer-B Budomotion
DESCRIPTION:Ausschreibung folgt
URL:https://kdb-brandenburg.de/termin/ausbildung-trainer-b-budomotion-2/
CATEGORIES:Lehrgang
END:VEVENT
BEGIN:VEVENT
DTSTART;TZID=Europe/Berlin:20260315T154500
DTEND;TZID=Europe/Berlin:20260315T180000
DTSTAMP:20260421T141225
CREATED:20251130T163111Z
LAST-MODIFIED:20251130T163137Z
UID:1284-1773589500-1773597600@kdb-brandenburg.de
SUMMARY:Koshinkan: Gefahrenwahrnehmung
DESCRIPTION:
URL:https://kdb-brandenburg.de/termin/1284/
END:VEVENT
BEGIN:VEVENT
DTSTART;TZID=Europe/Berlin:20260314T100000
DTEND;TZID=Europe/Berlin:20260314T150000
DTSTAMP:20260421T141225
CREATED:20260201T164054Z
LAST-MODIFIED:20260201T164104Z
UID:1473-1773482400-1773500400@kdb-brandenburg.de
SUMMARY:Dan Shakai
DESCRIPTION:
URL:https://kdb-brandenburg.de/termin/1473/
CATEGORIES:Lehrgang
END:VEVENT
BEGIN:VEVENT
DTSTART;TZID=Europe/Berlin:20260307T164500
DTEND;TZID=Europe/Berlin:20260307T183000
DTSTAMP:20260421T141225
CREATED:20260107T181247Z
LAST-MODIFIED:20260107T181247Z
UID:1445-1772901900-1772908200@kdb-brandenburg.de
SUMMARY:Koshinkan-Lehrgang: Ashi Sabaki
DESCRIPTION:
URL:https://kdb-brandenburg.de/termin/koshinkan-lehrgang-ashi-sabaki/
CATEGORIES:Lehrgang
END:VEVENT
BEGIN:VEVENT
DTSTART;TZID=Europe/Berlin:20260307T100000
DTEND;TZID=Europe/Berlin:20260307T150000
DTSTAMP:20260421T141225
CREATED:20260116T192043Z
LAST-MODIFIED:20260116T192057Z
UID:1454-1772877600-1772895600@kdb-brandenburg.de
SUMMARY:Lehrgang mit Uwe Waskow
DESCRIPTION:
URL:https://kdb-brandenburg.de/termin/1454/
CATEGORIES:Lehrgang
END:VEVENT
BEGIN:VEVENT
DTSTART;VALUE=DATE:20260307
DTEND;VALUE=DATE:20260309
DTSTAMP:20260421T141225
CREATED:20251214T161828Z
LAST-MODIFIED:20251214T161828Z
UID:1340-1772841600-1773014399@kdb-brandenburg.de
SUMMARY:Ausbildung Trainer-C-Breitensport
DESCRIPTION:Ausschreibung folgt
URL:https://kdb-brandenburg.de/termin/ausbildung-trainer-c-breitensport-3/
CATEGORIES:Lehrgang
END:VEVENT
BEGIN:VEVENT
DTSTART;TZID=Europe/Berlin:20260228T100000
DTEND;TZID=Europe/Berlin:20260228T150000
DTSTAMP:20260421T141225
CREATED:20260205T150909Z
LAST-MODIFIED:20260205T150909Z
UID:1842-1772272800-1772290800@kdb-brandenburg.de
SUMMARY:KDB-Landeskader Kata Sichtungstraining
DESCRIPTION:
URL:https://kdb-brandenburg.de/termin/kdb-landeskader-kata-sichtungstraining/
CATEGORIES:Lehrgang
END:VEVENT
BEGIN:VEVENT
DTSTART;TZID=Europe/Berlin:20260226T190000
DTEND;TZID=Europe/Berlin:20260226T203000
DTSTAMP:20260421T141225
CREATED:20251214T161558Z
LAST-MODIFIED:20260119T193249Z
UID:1336-1772132400-1772137800@kdb-brandenburg.de
SUMMARY:Dan-Vorbereitungstraining mit Stilrichtungsreferent und A-Prüfer Shotokan Stanley Schulze
DESCRIPTION:Donnerstagstraining in der Landkostarena in Bestensee\n19 – 20:30 Uhr\n\n\nGoethestraße 17 / 15741 Bestensee\nrechte Hallenhälfte\n\n\ngezielte Vorbereitung auf die nächste Shotokan-Danprüfung zum 1. – 5. Dan\nTeilnahmevoraussetzung: mindestens 3. Kyu\nkostenfrei
URL:https://kdb-brandenburg.de/termin/dan-vorbereitung-shotokan-in-bestensee-2/
CATEGORIES:Lehrgang
END:VEVENT
BEGIN:VEVENT
DTSTART;VALUE=DATE:20260220
DTEND;VALUE=DATE:20260223
DTSTAMP:20260421T141225
CREATED:20251214T161512Z
LAST-MODIFIED:20251214T161512Z
UID:1334-1771545600-1771804799@kdb-brandenburg.de
SUMMARY:Ausbildung Trainer-B Budomotion
DESCRIPTION:Ausschreibung folgt
URL:https://kdb-brandenburg.de/termin/ausbildung-trainer-b-budomotion/
CATEGORIES:Lehrgang
END:VEVENT
BEGIN:VEVENT
DTSTART;VALUE=DATE:20260214
DTEND;VALUE=DATE:20260216
DTSTAMP:20260421T141225
CREATED:20251214T161417Z
LAST-MODIFIED:20251214T161417Z
UID:1332-1771027200-1771199999@kdb-brandenburg.de
SUMMARY:Ausbildung Trainer-C-Breitensport
DESCRIPTION:Ausschreibung folgt
URL:https://kdb-brandenburg.de/termin/ausbildung-trainer-c-breitensport-2/
CATEGORIES:Lehrgang
END:VEVENT
BEGIN:VEVENT
DTSTART;TZID=Europe/Berlin:20260129T190000
DTEND;TZID=Europe/Berlin:20260129T203000
DTSTAMP:20260421T141225
CREATED:20251214T161341Z
LAST-MODIFIED:20260119T193206Z
UID:1330-1769713200-1769718600@kdb-brandenburg.de
SUMMARY:Dan-Vorbereitungstraining mit Stilrichtungsreferent und A-Prüfer Shotokan Stanley Schulze
DESCRIPTION:Donnerstagstraining in der Landkostarena in Bestensee\n19 – 20:30 Uhr\n\n\nGoethestraße 17 / 15741 Bestensee\nrechte Hallenhälfte\n\n\ngezielte Vorbereitung auf die nächste Shotokan-Danprüfung zum 1. – 5. Dan\nTeilnahmevoraussetzung: mindestens 3. Kyu\nkostenfrei
URL:https://kdb-brandenburg.de/termin/dan-vorbereitung-shotokan-in-bestensee/
CATEGORIES:Lehrgang
END:VEVENT
BEGIN:VEVENT
DTSTART;VALUE=DATE:20260124
DTEND;VALUE=DATE:20260126
DTSTAMP:20260421T141225
CREATED:20251214T161256Z
LAST-MODIFIED:20251214T161256Z
UID:1328-1769212800-1769385599@kdb-brandenburg.de
SUMMARY:Ausbildung Trainer-C-Breitensport
DESCRIPTION:Ausschreibung folgt
URL:https://kdb-brandenburg.de/termin/ausbildung-trainer-c-breitensport/
CATEGORIES:Lehrgang
END:VEVENT
BEGIN:VEVENT
DTSTART;VALUE=DATE:20260124
DTEND;VALUE=DATE:20260125
DTSTAMP:20260421T141225
CREATED:20260107T180036Z
LAST-MODIFIED:20260107T180036Z
UID:1443-1769212800-1769299199@kdb-brandenburg.de
SUMMARY:Sichtungstraining für Kata in Bestensee
DESCRIPTION:Ausschreibung folgt
URL:https://kdb-brandenburg.de/termin/sichtungstraining-fuer-kata-in-bestensee/
CATEGORIES:Veranstaltung
END:VEVENT
BEGIN:VEVENT
DTSTART;TZID=Europe/Berlin:20251230T173000
DTEND;TZID=Europe/Berlin:20251230T193000
DTSTAMP:20260421T141225
CREATED:20251216T145415Z
LAST-MODIFIED:20251216T145415Z
UID:1385-1767115800-1767123000@kdb-brandenburg.de
SUMMARY:Jahresabschlusstraining mit Gert Krüger
DESCRIPTION:
URL:https://kdb-brandenburg.de/termin/jahresabschlusstraining-mit-gert-krueger/
CATEGORIES:Lehrgang
END:VEVENT
BEGIN:VEVENT
DTSTART;TZID=Europe/Berlin:20251227T094500
DTEND;TZID=Europe/Berlin:20251230T190000
DTSTAMP:20260421T141225
CREATED:20251109T152331Z
LAST-MODIFIED:20251228T140759Z
UID:1198-1766828700-1767121200@kdb-brandenburg.de
SUMMARY:Lehrgang Atemtechniken
DESCRIPTION:
URL:https://kdb-brandenburg.de/termin/1198/
END:VEVENT
BEGIN:VEVENT
DTSTART;TZID=Europe/Berlin:20251213T140000
DTEND;TZID=Europe/Berlin:20251213T170000
DTSTAMP:20260421T141225
CREATED:20251026T154630Z
LAST-MODIFIED:20251026T154630Z
UID:1179-1765634400-1765645200@kdb-brandenburg.de
SUMMARY:Shukokai-Tag 2025
DESCRIPTION:
URL:https://kdb-brandenburg.de/termin/shukokai-tag-2025/
END:VEVENT
BEGIN:VEVENT
DTSTART;TZID=Europe/Berlin:20251129T100000
DTEND;TZID=Europe/Berlin:20251129T120000
DTSTAMP:20260421T141225
CREATED:20251026T154508Z
LAST-MODIFIED:20251026T154508Z
UID:1177-1764410400-1764417600@kdb-brandenburg.de
SUMMARY:KDB-Mitgliederversammlung
DESCRIPTION:in Brandenburg an der Havel\, in der Geschäftsstelle\, Sophienstr. 49\, 14772 Brandenburg
URL:https://kdb-brandenburg.de/termin/kdb-mitgliederversammlung/
END:VEVENT
BEGIN:VEVENT
DTSTART;TZID=Europe/Berlin:20251127T190000
DTEND;TZID=Europe/Berlin:20251127T203000
DTSTAMP:20260421T141225
CREATED:20251026T154417Z
LAST-MODIFIED:20251026T154417Z
UID:1175-1764270000-1764275400@kdb-brandenburg.de
SUMMARY:Dan-Vorbereitungstraining mit Stilrichtungsreferent und A-Prüfer Shotokan Stanley Schulze
DESCRIPTION:Donnerstagstraining in der Landkostarena in Bestensee\n19 – 20:30 Uhr\n\n\nGoethestraße 17 / 15741 Bestensee\nrechte Hallenhälfte\n\n\ngezielte Vorbereitung auf die nächste Shotokan-Danprüfung zum 1. – 5. Dan\nTeilnahmevoraussetzung: mindestens 3. Kyu\nkostenfrei
URL:https://kdb-brandenburg.de/termin/dan-vorbereitungstraining-mit-stilrichtungsreferent-und-a-pruefer-shotokan-stanley-schulze/
END:VEVENT
BEGIN:VEVENT
DTSTART;TZID=Europe/Berlin:20251119T090000
DTEND;TZID=Europe/Berlin:20251123T183000
DTSTAMP:20260421T141225
CREATED:20251026T154121Z
LAST-MODIFIED:20251026T154121Z
UID:1166-1763542800-1763922600@kdb-brandenburg.de
SUMMARY:SV-Lehrer*in Ausbildung
DESCRIPTION:
URL:https://kdb-brandenburg.de/termin/sv-lehrerin-ausbildung/
END:VEVENT
BEGIN:VEVENT
DTSTART;TZID=Europe/Berlin:20251109T090000
DTEND;TZID=Europe/Berlin:20251109T143000
DTSTAMP:20260421T141225
CREATED:20251026T153832Z
LAST-MODIFIED:20251026T153832Z
UID:1164-1762678800-1762698600@kdb-brandenburg.de
SUMMARY:Kadertraining Kata
DESCRIPTION:
URL:https://kdb-brandenburg.de/termin/kadertraining-kata-2/
END:VEVENT
BEGIN:VEVENT
DTSTART;TZID=Europe/Berlin:20251108T170000
DTEND;TZID=Europe/Berlin:20251108T190000
DTSTAMP:20260421T141225
CREATED:20250416T134615Z
LAST-MODIFIED:20251026T153659Z
UID:411-1762621200-1762628400@kdb-brandenburg.de
SUMMARY:Koshinkan-Lehrgang in Woltersdorf mit Zehbe Sensei
DESCRIPTION:
URL:https://kdb-brandenburg.de/termin/koshinkan-lehrgang-in-woltersdorf-2/
END:VEVENT
BEGIN:VEVENT
DTSTART;TZID=Europe/Berlin:20251108T100000
DTEND;TZID=Europe/Berlin:20251108T170000
DTSTAMP:20260421T141225
CREATED:20251026T153548Z
LAST-MODIFIED:20251026T153548Z
UID:1158-1762596000-1762621200@kdb-brandenburg.de
SUMMARY:3. Rangliste in Beelitz
DESCRIPTION:
URL:https://kdb-brandenburg.de/termin/3-rangliste-in-beelitz/
END:VEVENT
BEGIN:VEVENT
DTSTART;TZID=Europe/Berlin:20251026T080000
DTEND;TZID=Europe/Berlin:20251026T170000
DTSTAMP:20260421T141225
CREATED:20251026T154312Z
LAST-MODIFIED:20251026T154312Z
UID:1171-1761465600-1761498000@kdb-brandenburg.de
SUMMARY:SOK-Dan-Prüfung in Erkner
DESCRIPTION:
URL:https://kdb-brandenburg.de/termin/sok-dan-pruefung-in-erkner/
END:VEVENT
BEGIN:VEVENT
DTSTART;TZID=Europe/Berlin:20251025T090000
DTEND;TZID=Europe/Berlin:20251025T143000
DTSTAMP:20260421T141225
CREATED:20251026T153254Z
LAST-MODIFIED:20251026T153316Z
UID:1151-1761382800-1761402600@kdb-brandenburg.de
SUMMARY:Kadertraining Kata
DESCRIPTION:
URL:https://kdb-brandenburg.de/termin/kadertraining-kata/
END:VEVENT
BEGIN:VEVENT
DTSTART;TZID=Europe/Berlin:20251012T160000
DTEND;TZID=Europe/Berlin:20251012T180000
DTSTAMP:20260421T141225
CREATED:20250416T134823Z
LAST-MODIFIED:20250416T134823Z
UID:414-1760284800-1760292000@kdb-brandenburg.de
SUMMARY:Koshinkan-Lehrgang in Zossen
DESCRIPTION:
URL:https://kdb-brandenburg.de/termin/koshinkan-lehrgang-in-zossen-2/
END:VEVENT
BEGIN:VEVENT
DTSTART;TZID=Europe/Berlin:20250913T180000
DTEND;TZID=Europe/Berlin:20250913T200000
DTSTAMP:20260421T141225
CREATED:20250416T135835Z
LAST-MODIFIED:20250416T135835Z
UID:426-1757786400-1757793600@kdb-brandenburg.de
SUMMARY:Koshinkan Dan-Prüfungen in Zossen
DESCRIPTION:
URL:https://kdb-brandenburg.de/termin/koshinkan-dan-pruefungen-in-zossen/
END:VEVENT
BEGIN:VEVENT
DTSTART;TZID=Europe/Berlin:20250913T090000
DTEND;TZID=Europe/Berlin:20250913T200000
DTSTAMP:20260421T141225
CREATED:20250416T135701Z
LAST-MODIFIED:20250416T135701Z
UID:424-1757754000-1757793600@kdb-brandenburg.de
SUMMARY:Koshinkan Stilrichtungstag in Zossen
DESCRIPTION:
URL:https://kdb-brandenburg.de/termin/koshinkan-stilrichtungstag-in-zossen/
END:VEVENT
END:VCALENDAR