BEGIN:VCALENDAR
VERSION:2.0
PRODID:-//KDB Brandenburg e.V. - ECPv6.15.20//NONSGML v1.0//EN
CALSCALE:GREGORIAN
METHOD:PUBLISH
X-ORIGINAL-URL:https://kdb-brandenburg.de
X-WR-CALDESC:Veranstaltungen für KDB Brandenburg e.V.
REFRESH-INTERVAL;VALUE=DURATION:PT1H
X-Robots-Tag:noindex
X-PUBLISHED-TTL:PT1H
BEGIN:VTIMEZONE
TZID:Europe/Berlin
BEGIN:DAYLIGHT
TZOFFSETFROM:+0100
TZOFFSETTO:+0200
TZNAME:CEST
DTSTART:20250330T010000
END:DAYLIGHT
BEGIN:STANDARD
TZOFFSETFROM:+0200
TZOFFSETTO:+0100
TZNAME:CET
DTSTART:20251026T010000
END:STANDARD
BEGIN:DAYLIGHT
TZOFFSETFROM:+0100
TZOFFSETTO:+0200
TZNAME:CEST
DTSTART:20260329T010000
END:DAYLIGHT
BEGIN:STANDARD
TZOFFSETFROM:+0200
TZOFFSETTO:+0100
TZNAME:CET
DTSTART:20261025T010000
END:STANDARD
BEGIN:DAYLIGHT
TZOFFSETFROM:+0100
TZOFFSETTO:+0200
TZNAME:CEST
DTSTART:20270328T010000
END:DAYLIGHT
BEGIN:STANDARD
TZOFFSETFROM:+0200
TZOFFSETTO:+0100
TZNAME:CET
DTSTART:20271031T010000
END:STANDARD
END:VTIMEZONE
BEGIN:VEVENT
DTSTART;VALUE=DATE:20260926
DTEND;VALUE=DATE:20260927
DTSTAMP:20260423T104012
CREATED:20251227T083931Z
LAST-MODIFIED:20251228T140543Z
UID:1393-1790380800-1790467199@kdb-brandenburg.de
SUMMARY:Training mit Fiore Tartaglia
DESCRIPTION:Am 26.09.2026 freuen wir uns Fiore Tartaglia (7.Dan) zu einem Lehrgang in Potsdam begrüßen zu dürfen.\nFiore ist bekannt als Millenniumtrainer\, durch zahlreiche Buch- und Videoveröffentlichungen\, speziell designte Zeichnungen von Karatetechniken und andere Produkte aus seinem Spectra Verlag.\nUnseren Lehrgang führen wir wieder als Gemeinschaftsprojekt von Karatevereinen aus Potsdam durch. Wir freuen uns auf viele interessierte Karateka. Weitere Infos\, sowie die Möglichkeit zur Anmeldung erhaltet ihr auf unserer Webseite.
URL:https://kdb-brandenburg.de/termin/training-mit-fiore-tartaglia/
CATEGORIES:Lehrgang
END:VEVENT
BEGIN:VEVENT
DTSTART;TZID=Europe/Berlin:20261010T100000
DTEND;TZID=Europe/Berlin:20261010T140000
DTSTAMP:20260423T104012
CREATED:20260422T153708Z
LAST-MODIFIED:20260422T153708Z
UID:3128-1791626400-1791640800@kdb-brandenburg.de
SUMMARY:Shotokan-Lehrgang mit Uwe Waskow & Dieter Szephan
DESCRIPTION:
URL:https://kdb-brandenburg.de/termin/shotokan-lehrgang-mit-uwe-waskow-dieter-szephan/
CATEGORIES:Lehrgang
END:VEVENT
BEGIN:VEVENT
DTSTART;TZID=Europe/Berlin:20261010T164500
DTEND;TZID=Europe/Berlin:20261010T183000
DTSTAMP:20260423T104012
CREATED:20260329T130110Z
LAST-MODIFIED:20260329T130110Z
UID:3075-1791650700-1791657000@kdb-brandenburg.de
SUMMARY:Koshinkan-Lehrgang: Heian Kata
DESCRIPTION:
URL:https://kdb-brandenburg.de/termin/koshinkan-lehrgang-heian-kata/
CATEGORIES:Lehrgang
END:VEVENT
BEGIN:VEVENT
DTSTART;TZID=Europe/Berlin:20261011T154500
DTEND;TZID=Europe/Berlin:20261011T180000
DTSTAMP:20260423T104012
CREATED:20251130T163350Z
LAST-MODIFIED:20251130T163350Z
UID:1291-1791733500-1791741600@kdb-brandenburg.de
SUMMARY:Koshinkan: Gefahren- und Deeskalationsstrategien
DESCRIPTION:
URL:https://kdb-brandenburg.de/termin/koshinkan-gefahren-und-deeskalationsstrategien/
END:VEVENT
BEGIN:VEVENT
DTSTART;TZID=Europe/Berlin:20261106T180000
DTEND;TZID=Europe/Berlin:20261108T140000
DTSTAMP:20260423T104012
CREATED:20251214T162722Z
LAST-MODIFIED:20260330T185148Z
UID:1360-1793988000-1794146400@kdb-brandenburg.de
SUMMARY:WADO-Lehrgang in Potsdam
DESCRIPTION:
URL:https://kdb-brandenburg.de/termin/wado-lehrgang/
CATEGORIES:Lehrgang
END:VEVENT
BEGIN:VEVENT
DTSTART;TZID=Europe/Berlin:20261107T164500
DTEND;TZID=Europe/Berlin:20261107T183000
DTSTAMP:20260423T104012
CREATED:20260107T181401Z
LAST-MODIFIED:20260107T181401Z
UID:1451-1794069900-1794076200@kdb-brandenburg.de
SUMMARY:Koshinkan-Lehrgang: Ashi Sabaki II
DESCRIPTION:
URL:https://kdb-brandenburg.de/termin/koshinkan-lehrgang-ashi-sabaki-ii/
CATEGORIES:Lehrgang
END:VEVENT
END:VCALENDAR